{"text_format":"1","workbook":"xlsx","n_sheets":4,"sheets":["KSPS Single Dilution","Results","Statistical Analysis","Kinase Strips"],"not_rendered":{"charts":0,"images":2,"macros":1,"external_links":0,"defined_names":0,"comments":0,"pivot_tables":0},"unopened":[],"bounds":{"document_bytes":16777216,"sheet_cells":100000,"rows_first":2000,"rows_last":500,"rows_between":2000,"halvings":0,"cell_chars":16384,"cell_head_chars":4096},"cells_cut":0,"cells_raw":0,"read":"whole","date_system":"1900"}

{"sheet":"KSPS Single Dilution","index":0,"n_rows":0,"n_cols":0,"rows_kept":0,"cut":false,"hidden":false,"merged":[[1,1,2,1],[1,3,1,13],[2,3,2,13]]}

{"sheet":"Results","index":1,"n_rows":44,"n_cols":29,"rows_kept":44,"cut":false,"hidden":false,"merged":[[1,1,2,1],[2,3,2,13],[1,3,1,13]]}
[]
[null,null,null,"Kinase Selectivity Profiling Systems (KPS)"]
[null,null,null,"Single Dose Data Analysis Workbook"]
[]
[]
["Luminescence"]
[null,"Emission Filter:",null,"None"]
[null,"Integration Time(s):",null,0.3]
[null,"Reading:",null,1,null,1,2,3,4,5,6,7,8,9,10,11,12,13,14,15,16,17,18,19,20,21,22,23,24]
[null,null,null,null,"A",5336,28755,16358,6854,30477,35653,35381,34482,40545,33431,27640,21321,5336,28755,16358,6854,30477,35653,35381,34482,40545,33431,27640,21321]
[null,null,null,null,"B",5212,31873,18043,6694,30039,34597,34900,33180,35313,35285,34633,25905,5212,31873,18043,6694,30039,34597,34900,33180,35313,35285,34633,25905]
[null,null,null,null,"C",5977,25497,10871,7593,37346,25879,26630,28640,26515,32317,28994,10531,5977,25497,10871,7593,37346,25879,26630,28640,26515,32317,28994,10531]
[null,null,null,null,"D",4980,23707,10605,7887,35353,24917,26269,26271,26158,32846,28094,10635,4980,23707,10605,7887,35353,24917,26269,26271,26158,32846,28094,10635]
[null,null,null,null,"E",5947,37770,35486,33059,21136,41829,42594,42189,59399,38591,40076,38064,5947,37770,35486,33059,21136,41829,42594,42189,59399,38591,40076,38064]
[null,null,null,null,"F",8241,39617,34004,27672,21291,42187,58483,43238,41205,39209,41472,35357,8241,39617,34004,27672,21291,42187,58483,43238,41205,39209,41472,35357]
[null,null,null,null,"G",5098,94638,37300,101670,97842,101414,94104,106761,100309,100013,102287,32611,5098,94638,37300,101670,97842,101414,94104,106761,100309,100013,102287,32611]
[null,null,null,null,"H",4354,90703,60586,95523,92547,96864,90352,99404,97418,98181,107731,32657,4354,90703,60586,95523,92547,96864,90352,99404,97418,98181,107731,32657]
[null,null,null,null,"I",5416,7813,5406,7951,7651,7645,7448,7823,7817,7821,8035,5042,5416,7813,5406,7951,7651,7645,7448,7823,7817,7821,8035,5042]
[null,null,null,null,"J",5116,7661,5094,7470,7701,7869,7496,7542,7593,7290,7781,4710,5116,7661,5094,7470,7701,7869,7496,7542,7593,7290,7781,4710]
[null,null,null,null,"K",6053,136859,6343,111985,118001,116802,71996,117205,119272,14093,116285,5871,6053,136859,6343,111985,118001,116802,71996,117205,119272,14093,116285,5871]
[null,null,null,null,"L",5615,117189,5883,100346,108365,114500,72726,116849,118712,12522,117895,5669,5615,117189,5883,100346,108365,114500,72726,116849,118712,12522,117895,5669]
[null,null,null,null,"M",5841,69936,5054,36115,7100,61232,42141,54311,24413,5723,63182,4656,5841,69936,5054,36115,7100,61232,42141,54311,24413,5723,63182,4656]
[null,null,null,null,"N",5230,69778,5124,46075,6720,60182,45904,57718,46369,5304,61187,5230,5230,69778,5124,46075,6720,60182,45904,57718,46369,5304,61187,5230]
[null,null,null,null,"O",6095,89140,4620,34183,5512,71482,44134,61773,27708,5470,67024,4318,6095,89140,4620,34183,5512,71482,44134,61773,27708,5470,67024,4318]
[null,null,null,null,"P",5621,84570,4812,51856,5821,77287,68196,58408,51378,5729,76652,4558,5621,84570,4812,51856,5821,77287,68196,58408,51378,5729,76652,4558]
[]
[]
[]
[]
["Kit Analysis"]
[null,"# of Inhibitors"]
[null,"KPS"]
[]
[]
[]
[]
[]
[]
[]
[]
[]
[]
[null,"# of Inhibitors"]
[null,"KPS"]

{"sheet":"Statistical Analysis","index":2,"n_rows":59,"n_cols":27,"rows_kept":59,"cut":false,"hidden":false,"merged":[[57,21,58,21],[57,22,58,22],[57,23,58,23],[57,24,58,24],[57,25,58,25],[57,26,58,26],[57,17,58,17],[57,15,58,15],[57,16,58,16],[57,20,58,20],[57,19,58,19],[57,18,58,18],[57,9,58,9],[57,10,58,10],[57,11,58,11],[57,12,58,12],[57,13,58,13],[57,14,58,14],[57,3,58,3],[57,4,58,4],[57,5,58,5],[57,6,58,6],[57,7,58,7],[57,8,58,8],[55,21,56,21],[55,22,56,22],[55,23,56,23],[55,24,56,24],[55,25,56,25],[55,26,56,26],[55,17,56,17],[55,15,56,15],[55,16,56,16],[55,20,56,20],[55,19,56,19],[55,18,56,18],[55,9,56,9],[55,10,56,10],[55,11,56,11],[55,12,56,12],[55,13,56,13],[55,14,56,14],[55,3,56,3],[55,4,56,4],[55,5,56,5],[55,6,56,6],[55,7,56,7],[55,8,56,8],[53,21,54,21],[53,22,54,22],[53,23,54,23],[53,24,54,24],[53,25,54,25],[53,26,54,26],[53,17,54,17],[53,15,54,15],[53,16,54,16],[53,20,54,20],[53,19,54,19],[53,18,54,18],[53,9,54,9],[53,10,54,10],[53,11,54,11],[53,12,54,12],[53,13,54,13],[53,14,54,14],[53,3,54,3],[53,4,54,4],[53,5,54,5],[53,6,54,6],[53,7,54,7],[53,8,54,8],[51,21,52,21],[51,22,52,22],[51,23,52,23],[51,24,52,24],[51,25,52,25],[51,26,52,26],[51,17,52,17],[51,15,52,15],[51,16,52,16],[51,20,52,20],[51,19,52,19],[51,18,52,18],[51,9,52,9],[51,10,52,10],[51,11,52,11],[51,12,52,12],[51,13,52,13],[51,14,52,14],[51,3,52,3],[51,4,52,4],[51,5,52,5],[51,6,52,6],[51,7,52,7],[51,8,52,8],[49,21,50,21],[49,22,50,22],[49,23,50,23],[49,24,50,24],[49,25,50,25],[49,26,50,26],[49,17,50,17],[49,15,50,15],[49,16,50,16],[49,20,50,20],[49,19,50,19],[49,18,50,18],[49,9,50,9],[49,10,50,10],[49,11,50,11],[49,12,50,12],[49,13,50,13],[49,14,50,14],[49,3,50,3],[49,4,50,4],[49,5,50,5],[49,6,50,6],[49,7,50,7],[49,8,50,8],[47,21,48,21],[47,22,48,22],[47,23,48,23],[47,24,48,24],[47,25,48,25],[47,26,48,26],[47,17,48,17],[47,15,48,15],[47,16,48,16],[47,20,48,20],[47,19,48,19],[47,18,48,18],[47,9,48,9],[47,10,48,10],[47,11,48,11],[47,12,48,12],[47,13,48,13],[47,14,48,14],[47,3,48,3],[47,4,48,4],[47,5,48,5],[47,6,48,6],[47,7,48,7],[47,8,48,8],[45,21,46,21],[45,22,46,22],[45,23,46,23],[45,24,46,24],[45,25,46,25],[45,26,46,26],[45,17,46,17],[45,15,46,15],[45,16,46,16],[45,20,46,20],[45,19,46,19],[45,18,46,18],[45,9,46,9],[45,10,46,10],[45,11,46,11],[45,12,46,12],[45,13,46,13],[45,14,46,14],[45,3,46,3],[45,4,46,4],[45,5,46,5],[45,6,46,6],[45,7,46,7],[45,8,46,8],[43,21,44,21],[43,22,44,22],[43,23,44,23],[43,24,44,24],[43,25,44,25],[43,26,44,26],[43,17,44,17],[43,15,44,15],[43,16,44,16],[43,20,44,20],[43,19,44,19],[43,18,44,18],[43,9,44,9],[43,10,44,10],[43,11,44,11],[43,12,44,12],[43,13,44,13],[43,14,44,14],[43,3,44,3],[43,4,44,4],[43,5,44,5],[43,6,44,6],[43,7,44,7],[43,8,44,8],[38,21,39,21],[38,22,39,22],[38,23,39,23],[38,24,39,24],[38,25,39,25],[38,26,39,26],[38,15,39,15],[38,16,39,16],[38,17,39,17],[38,18,39,18],[38,19,39,19],[38,20,39,20],[36,21,37,21],[36,22,37,22],[36,23,37,23],[36,24,37,24],[36,25,37,25],[36,26,37,26],[36,15,37,15],[36,16,37,16],[36,17,37,17],[36,18,37,18],[36,19,37,19],[36,20,37,20],[34,21,35,21],[34,22,35,22],[34,23,35,23],[34,24,35,24],[34,25,35,25],[34,26,35,26],[34,15,35,15],[34,16,35,16],[34,17,35,17],[34,18,35,18],[34,19,35,19],[34,20,35,20],[32,21,33,21],[32,22,33,22],[32,23,33,23],[32,24,33,24],[32,25,33,25],[32,26,33,26],[32,15,33,15],[32,16,33,16],[32,17,33,17],[32,18,33,18],[32,19,33,19],[32,20,33,20],[30,21,31,21],[30,22,31,22],[30,23,31,23],[30,24,31,24],[30,25,31,25],[30,26,31,26],[30,15,31,15],[30,16,31,16],[30,17,31,17],[30,18,31,18],[30,19,31,19],[30,20,31,20],[28,21,29,21],[28,22,29,22],[28,23,29,23],[28,24,29,24],[28,25,29,25],[28,26,29,26],[28,15,29,15],[28,16,29,16],[28,17,29,17],[28,18,29,18],[28,19,29,19],[28,20,29,20],[26,21,27,21],[26,22,27,22],[26,23,27,23],[26,24,27,24],[26,25,27,25],[26,26,27,26],[26,15,27,15],[26,16,27,16],[26,17,27,17],[26,18,27,18],[26,19,27,19],[26,20,27,20],[24,21,25,21],[24,22,25,22],[24,23,25,23],[24,24,25,24],[24,25,25,25],[24,26,25,26],[24,15,25,15],[24,16,25,16],[24,17,25,17],[24,18,25,18],[24,19,25,19],[24,20,25,20],[24,3,25,3],[26,3,27,3],[28,3,29,3],[30,3,31,3],[32,3,33,3],[34,3,35,3],[36,3,37,3],[38,3,39,3],[24,4,25,4],[28,4,29,4],[32,4,33,4],[36,4,37,4],[24,14,25,14],[26,4,27,4],[26,5,27,5],[26,6,27,6],[26,7,27,7],[26,8,27,8],[26,9,27,9],[26,10,27,10],[26,11,27,11],[26,12,27,12],[26,13,27,13],[26,14,27,14],[24,5,25,5],[24,6,25,6],[24,7,25,7],[24,8,25,8],[24,9,25,9],[24,10,25,10],[24,11,25,11],[24,12,25,12],[24,13,25,13],[28,14,29,14],[30,4,31,4],[30,5,31,5],[30,6,31,6],[30,7,31,7],[30,8,31,8],[30,9,31,9],[30,10,31,10],[30,11,31,11],[30,12,31,12],[30,13,31,13],[30,14,31,14],[28,5,29,5],[28,6,29,6],[28,7,29,7],[28,8,29,8],[28,9,29,9],[28,10,29,10],[28,11,29,11],[28,12,29,12],[28,13,29,13],[32,14,33,14],[34,4,35,4],[34,5,35,5],[34,6,35,6],[34,7,35,7],[34,8,35,8],[34,9,35,9],[34,10,35,10],[34,11,35,11],[34,12,35,12],[34,13,35,13],[34,14,35,14],[32,5,33,5],[32,6,33,6],[32,7,33,7],[32,8,33,8],[32,9,33,9],[32,10,33,10],[32,11,33,11],[32,12,33,12],[32,13,33,13],[36,14,37,14],[38,4,39,4],[38,5,39,5],[38,6,39,6],[38,7,39,7],[38,8,39,8],[38,9,39,9],[38,10,39,10],[38,11,39,11],[38,12,39,12],[38,13,39,13],[38,14,39,14],[36,5,37,5],[36,6,37,6],[36,7,37,7],[36,8,37,8],[36,9,37,9],[36,10,37,10],[36,11,37,11],[36,12,37,12],[36,13,37,13]]}
[]
[]
[]
[null,"Raw Data:"]
[null,null,null,1,2,3,4,5,6,7,8,9,10,11,12,13,14,15,16,17,18,19,20,21,22,23,24]
[null,null,"A",{"$f":"Results!F10","v":5336},{"$f":"Results!G10","v":28755},{"$f":"Results!H10","v":16358},{"$f":"Results!I10","v":6854},{"$f":"Results!J10","v":30477},{"$f":"Results!K10","v":35653},{"$f":"Results!L10","v":35381},{"$f":"Results!M10","v":34482},{"$f":"Results!N10","v":40545},{"$f":"Results!O10","v":33431},{"$f":"Results!P10","v":27640},{"$f":"Results!Q10","v":21321},{"$f":"Results!R10","v":5336},{"$f":"Results!S10","v":28755},{"$f":"Results!T10","v":16358},{"$f":"Results!U10","v":6854},{"$f":"Results!V10","v":30477},{"$f":"Results!W10","v":35653},{"$f":"Results!X10","v":35381},{"$f":"Results!Y10","v":34482},{"$f":"Results!Z10","v":40545},{"$f":"Results!AA10","v":33431},{"$f":"Results!AB10","v":27640},{"$f":"Results!AC10","v":21321}]
[null,null,"B",{"$f":"Results!F11","v":5212},{"$f":"Results!G11","v":31873},{"$f":"Results!H11","v":18043},{"$f":"Results!I11","v":6694},{"$f":"Results!J11","v":30039},{"$f":"Results!K11","v":34597},{"$f":"Results!L11","v":34900},{"$f":"Results!M11","v":33180},{"$f":"Results!N11","v":35313},{"$f":"Results!O11","v":35285},{"$f":"Results!P11","v":34633},{"$f":"Results!Q11","v":25905},{"$f":"Results!R11","v":5212},{"$f":"Results!S11","v":31873},{"$f":"Results!T11","v":18043},{"$f":"Results!U11","v":6694},{"$f":"Results!V11","v":30039},{"$f":"Results!W11","v":34597},{"$f":"Results!X11","v":34900},{"$f":"Results!Y11","v":33180},{"$f":"Results!Z11","v":35313},{"$f":"Results!AA11","v":35285},{"$f":"Results!AB11","v":34633},{"$f":"Results!AC11","v":25905}]
[null,null,"C",{"$f":"Results!F12","v":5977},{"$f":"Results!G12","v":25497},{"$f":"Results!H12","v":10871},{"$f":"Results!I12","v":7593},{"$f":"Results!J12","v":37346},{"$f":"Results!K12","v":25879},{"$f":"Results!L12","v":26630},{"$f":"Results!M12","v":28640},{"$f":"Results!N12","v":26515},{"$f":"Results!O12","v":32317},{"$f":"Results!P12","v":28994},{"$f":"Results!Q12","v":10531},{"$f":"Results!R12","v":5977},{"$f":"Results!S12","v":25497},{"$f":"Results!T12","v":10871},{"$f":"Results!U12","v":7593},{"$f":"Results!V12","v":37346},{"$f":"Results!W12","v":25879},{"$f":"Results!X12","v":26630},{"$f":"Results!Y12","v":28640},{"$f":"Results!Z12","v":26515},{"$f":"Results!AA12","v":32317},{"$f":"Results!AB12","v":28994},{"$f":"Results!AC12","v":10531}]
[null,null,"D",{"$f":"Results!F13","v":4980},{"$f":"Results!G13","v":23707},{"$f":"Results!H13","v":10605},{"$f":"Results!I13","v":7887},{"$f":"Results!J13","v":35353},{"$f":"Results!K13","v":24917},{"$f":"Results!L13","v":26269},{"$f":"Results!M13","v":26271},{"$f":"Results!N13","v":26158},{"$f":"Results!O13","v":32846},{"$f":"Results!P13","v":28094},{"$f":"Results!Q13","v":10635},{"$f":"Results!R13","v":4980},{"$f":"Results!S13","v":23707},{"$f":"Results!T13","v":10605},{"$f":"Results!U13","v":7887},{"$f":"Results!V13","v":35353},{"$f":"Results!W13","v":24917},{"$f":"Results!X13","v":26269},{"$f":"Results!Y13","v":26271},{"$f":"Results!Z13","v":26158},{"$f":"Results!AA13","v":32846},{"$f":"Results!AB13","v":28094},{"$f":"Results!AC13","v":10635}]
[null,null,"E",{"$f":"Results!F14","v":5947},{"$f":"Results!G14","v":37770},{"$f":"Results!H14","v":35486},{"$f":"Results!I14","v":33059},{"$f":"Results!J14","v":21136},{"$f":"Results!K14","v":41829},{"$f":"Results!L14","v":42594},{"$f":"Results!M14","v":42189},{"$f":"Results!N14","v":59399},{"$f":"Results!O14","v":38591},{"$f":"Results!P14","v":40076},{"$f":"Results!Q14","v":38064},{"$f":"Results!R14","v":5947},{"$f":"Results!S14","v":37770},{"$f":"Results!T14","v":35486},{"$f":"Results!U14","v":33059},{"$f":"Results!V14","v":21136},{"$f":"Results!W14","v":41829},{"$f":"Results!X14","v":42594},{"$f":"Results!Y14","v":42189},{"$f":"Results!Z14","v":59399},{"$f":"Results!AA14","v":38591},{"$f":"Results!AB14","v":40076},{"$f":"Results!AC14","v":38064}]
[null,null,"F",{"$f":"Results!F15","v":8241},{"$f":"Results!G15","v":39617},{"$f":"Results!H15","v":34004},{"$f":"Results!I15","v":27672},{"$f":"Results!J15","v":21291},{"$f":"Results!K15","v":42187},{"$f":"Results!L15","v":58483},{"$f":"Results!M15","v":43238},{"$f":"Results!N15","v":41205},{"$f":"Results!O15","v":39209},{"$f":"Results!P15","v":41472},{"$f":"Results!Q15","v":35357},{"$f":"Results!R15","v":8241},{"$f":"Results!S15","v":39617},{"$f":"Results!T15","v":34004},{"$f":"Results!U15","v":27672},{"$f":"Results!V15","v":21291},{"$f":"Results!W15","v":42187},{"$f":"Results!X15","v":58483},{"$f":"Results!Y15","v":43238},{"$f":"Results!Z15","v":41205},{"$f":"Results!AA15","v":39209},{"$f":"Results!AB15","v":41472},{"$f":"Results!AC15","v":35357}]
[null,null,"G",{"$f":"Results!F16","v":5098},{"$f":"Results!G16","v":94638},{"$f":"Results!H16","v":37300},{"$f":"Results!I16","v":101670},{"$f":"Results!J16","v":97842},{"$f":"Results!K16","v":101414},{"$f":"Results!L16","v":94104},{"$f":"Results!M16","v":106761},{"$f":"Results!N16","v":100309},{"$f":"Results!O16","v":100013},{"$f":"Results!P16","v":102287},{"$f":"Results!Q16","v":32611},{"$f":"Results!R16","v":5098},{"$f":"Results!S16","v":94638},{"$f":"Results!T16","v":37300},{"$f":"Results!U16","v":101670},{"$f":"Results!V16","v":97842},{"$f":"Results!W16","v":101414},{"$f":"Results!X16","v":94104},{"$f":"Results!Y16","v":106761},{"$f":"Results!Z16","v":100309},{"$f":"Results!AA16","v":100013},{"$f":"Results!AB16","v":102287},{"$f":"Results!AC16","v":32611}]
[null,null,"H",{"$f":"Results!F17","v":4354},{"$f":"Results!G17","v":90703},{"$f":"Results!H17","v":60586},{"$f":"Results!I17","v":95523},{"$f":"Results!J17","v":92547},{"$f":"Results!K17","v":96864},{"$f":"Results!L17","v":90352},{"$f":"Results!M17","v":99404},{"$f":"Results!N17","v":97418},{"$f":"Results!O17","v":98181},{"$f":"Results!P17","v":107731},{"$f":"Results!Q17","v":32657},{"$f":"Results!R17","v":4354},{"$f":"Results!S17","v":90703},{"$f":"Results!T17","v":60586},{"$f":"Results!U17","v":95523},{"$f":"Results!V17","v":92547},{"$f":"Results!W17","v":96864},{"$f":"Results!X17","v":90352},{"$f":"Results!Y17","v":99404},{"$f":"Results!Z17","v":97418},{"$f":"Results!AA17","v":98181},{"$f":"Results!AB17","v":107731},{"$f":"Results!AC17","v":32657}]
[null,null,"I",{"$f":"Results!F18","v":5416},{"$f":"Results!G18","v":7813},{"$f":"Results!H18","v":5406},{"$f":"Results!I18","v":7951},{"$f":"Results!J18","v":7651},{"$f":"Results!K18","v":7645},{"$f":"Results!L18","v":7448},{"$f":"Results!M18","v":7823},{"$f":"Results!N18","v":7817},{"$f":"Results!O18","v":7821},{"$f":"Results!P18","v":8035},{"$f":"Results!Q18","v":5042},{"$f":"Results!R18","v":5416},{"$f":"Results!S18","v":7813},{"$f":"Results!T18","v":5406},{"$f":"Results!U18","v":7951},{"$f":"Results!V18","v":7651},{"$f":"Results!W18","v":7645},{"$f":"Results!X18","v":7448},{"$f":"Results!Y18","v":7823},{"$f":"Results!Z18","v":7817},{"$f":"Results!AA18","v":7821},{"$f":"Results!AB18","v":8035},{"$f":"Results!AC18","v":5042}]
[null,null,"J",{"$f":"Results!F19","v":5116},{"$f":"Results!G19","v":7661},{"$f":"Results!H19","v":5094},{"$f":"Results!I19","v":7470},{"$f":"Results!J19","v":7701},{"$f":"Results!K19","v":7869},{"$f":"Results!L19","v":7496},{"$f":"Results!M19","v":7542},{"$f":"Results!N19","v":7593},{"$f":"Results!O19","v":7290},{"$f":"Results!P19","v":7781},{"$f":"Results!Q19","v":4710},{"$f":"Results!R19","v":5116},{"$f":"Results!S19","v":7661},{"$f":"Results!T19","v":5094},{"$f":"Results!U19","v":7470},{"$f":"Results!V19","v":7701},{"$f":"Results!W19","v":7869},{"$f":"Results!X19","v":7496},{"$f":"Results!Y19","v":7542},{"$f":"Results!Z19","v":7593},{"$f":"Results!AA19","v":7290},{"$f":"Results!AB19","v":7781},{"$f":"Results!AC19","v":4710}]
[null,null,"K",{"$f":"Results!F20","v":6053},{"$f":"Results!G20","v":136859},{"$f":"Results!H20","v":6343},{"$f":"Results!I20","v":111985},{"$f":"Results!J20","v":118001},{"$f":"Results!K20","v":116802},{"$f":"Results!L20","v":71996},{"$f":"Results!M20","v":117205},{"$f":"Results!N20","v":119272},{"$f":"Results!O20","v":14093},{"$f":"Results!P20","v":116285},{"$f":"Results!Q20","v":5871},{"$f":"Results!R20","v":6053},{"$f":"Results!S20","v":136859},{"$f":"Results!T20","v":6343},{"$f":"Results!U20","v":111985},{"$f":"Results!V20","v":118001},{"$f":"Results!W20","v":116802},{"$f":"Results!X20","v":71996},{"$f":"Results!Y20","v":117205},{"$f":"Results!Z20","v":119272},{"$f":"Results!AA20","v":14093},{"$f":"Results!AB20","v":116285},{"$f":"Results!AC20","v":5871}]
[null,null,"L",{"$f":"Results!F21","v":5615},{"$f":"Results!G21","v":117189},{"$f":"Results!H21","v":5883},{"$f":"Results!I21","v":100346},{"$f":"Results!J21","v":108365},{"$f":"Results!K21","v":114500},{"$f":"Results!L21","v":72726},{"$f":"Results!M21","v":116849},{"$f":"Results!N21","v":118712},{"$f":"Results!O21","v":12522},{"$f":"Results!P21","v":117895},{"$f":"Results!Q21","v":5669},{"$f":"Results!R21","v":5615},{"$f":"Results!S21","v":117189},{"$f":"Results!T21","v":5883},{"$f":"Results!U21","v":100346},{"$f":"Results!V21","v":108365},{"$f":"Results!W21","v":114500},{"$f":"Results!X21","v":72726},{"$f":"Results!Y21","v":116849},{"$f":"Results!Z21","v":118712},{"$f":"Results!AA21","v":12522},{"$f":"Results!AB21","v":117895},{"$f":"Results!AC21","v":5669}]
[null,null,"M",{"$f":"Results!F22","v":5841},{"$f":"Results!G22","v":69936},{"$f":"Results!H22","v":5054},{"$f":"Results!I22","v":36115},{"$f":"Results!J22","v":7100},{"$f":"Results!K22","v":61232},{"$f":"Results!L22","v":42141},{"$f":"Results!M22","v":54311},{"$f":"Results!N22","v":24413},{"$f":"Results!O22","v":5723},{"$f":"Results!P22","v":63182},{"$f":"Results!Q22","v":4656},{"$f":"Results!R22","v":5841},{"$f":"Results!S22","v":69936},{"$f":"Results!T22","v":5054},{"$f":"Results!U22","v":36115},{"$f":"Results!V22","v":7100},{"$f":"Results!W22","v":61232},{"$f":"Results!X22","v":42141},{"$f":"Results!Y22","v":54311},{"$f":"Results!Z22","v":24413},{"$f":"Results!AA22","v":5723},{"$f":"Results!AB22","v":63182},{"$f":"Results!AC22","v":4656}]
[null,null,"N",{"$f":"Results!F23","v":5230},{"$f":"Results!G23","v":69778},{"$f":"Results!H23","v":5124},{"$f":"Results!I23","v":46075},{"$f":"Results!J23","v":6720},{"$f":"Results!K23","v":60182},{"$f":"Results!L23","v":45904},{"$f":"Results!M23","v":57718},{"$f":"Results!N23","v":46369},{"$f":"Results!O23","v":5304},{"$f":"Results!P23","v":61187},{"$f":"Results!Q23","v":5230},{"$f":"Results!R23","v":5230},{"$f":"Results!S23","v":69778},{"$f":"Results!T23","v":5124},{"$f":"Results!U23","v":46075},{"$f":"Results!V23","v":6720},{"$f":"Results!W23","v":60182},{"$f":"Results!X23","v":45904},{"$f":"Results!Y23","v":57718},{"$f":"Results!Z23","v":46369},{"$f":"Results!AA23","v":5304},{"$f":"Results!AB23","v":61187},{"$f":"Results!AC23","v":5230}]
[null,null,"O",{"$f":"Results!F24","v":6095},{"$f":"Results!G24","v":89140},{"$f":"Results!H24","v":4620},{"$f":"Results!I24","v":34183},{"$f":"Results!J24","v":5512},{"$f":"Results!K24","v":71482},{"$f":"Results!L24","v":44134},{"$f":"Results!M24","v":61773},{"$f":"Results!N24","v":27708},{"$f":"Results!O24","v":5470},{"$f":"Results!P24","v":67024},{"$f":"Results!Q24","v":4318},{"$f":"Results!R24","v":6095},{"$f":"Results!S24","v":89140},{"$f":"Results!T24","v":4620},{"$f":"Results!U24","v":34183},{"$f":"Results!V24","v":5512},{"$f":"Results!W24","v":71482},{"$f":"Results!X24","v":44134},{"$f":"Results!Y24","v":61773},{"$f":"Results!Z24","v":27708},{"$f":"Results!AA24","v":5470},{"$f":"Results!AB24","v":67024},{"$f":"Results!AC24","v":4318}]
[null,null,"P",{"$f":"Results!F25","v":5621},{"$f":"Results!G25","v":84570},{"$f":"Results!H25","v":4812},{"$f":"Results!I25","v":51856},{"$f":"Results!J25","v":5821},{"$f":"Results!K25","v":77287},{"$f":"Results!L25","v":68196},{"$f":"Results!M25","v":58408},{"$f":"Results!N25","v":51378},{"$f":"Results!O25","v":5729},{"$f":"Results!P25","v":76652},{"$f":"Results!Q25","v":4558},{"$f":"Results!R25","v":5621},{"$f":"Results!S25","v":84570},{"$f":"Results!T25","v":4812},{"$f":"Results!U25","v":51856},{"$f":"Results!V25","v":5821},{"$f":"Results!W25","v":77287},{"$f":"Results!X25","v":68196},{"$f":"Results!Y25","v":58408},{"$f":"Results!Z25","v":51378},{"$f":"Results!AA25","v":5729},{"$f":"Results!AB25","v":76652},{"$f":"Results!AC25","v":4558}]
[]
[null,"% CV:"]
[null,null,null,1,2,3,4,5,6,7,8,9,10,11,12,13,14,15,16,17,18,19,20,21,22,23,24]
[null,null,"A",{"$f":"STDEV(D6:D7)/AVERAGE(D6:D7)*100","v":1.6625187877726944},{"$f":"STDEV(E6:E7)/AVERAGE(E6:E7)*100","v":7.2730716623990732},{"$f":"STDEV(F6:F7)/AVERAGE(F6:F7)*100","v":6.9269784384136068},{"$f":"STDEV(G6:G7)/AVERAGE(G6:G7)*100","v":1.670166592705161},1.0235731712595275,2.1258498531900192,0.96788139540054752,2.7213296358513936,9.7539684124759862,3.8156352882002995,15.881032617145557,13.727088828014796,{"$f":"STDEV(P6:P7)/AVERAGE(P6:P7)*100","v":1.6625187877726944},{"$f":"STDEV(Q6:Q7)/AVERAGE(Q6:Q7)*100","v":7.2730716623990732},{"$f":"STDEV(R6:R7)/AVERAGE(R6:R7)*100","v":6.9269784384136068},{"$f":"STDEV(S6:S7)/AVERAGE(S6:S7)*100","v":1.670166592705161},1.0235731712595275,2.1258498531900192,0.96788139540054752,2.7213296358513936,9.7539684124759862,3.8156352882002995,15.881032617145557,13.727088828014796]
[null,null,"B"]
[null,null,"C",{"$f":"STDEV(D8:D9)/AVERAGE(D8:D9)*100","v":12.868220513698784},{"$f":"STDEV(E8:E9)/AVERAGE(E8:E9)*100","v":5.1447896037879852},1.7516334866420342,2.6859094789256455,3.8769826680003554,2.6783082270314935,0.96510538198583584,6.1012764824203929,0.95850671457330117,1.1480732539867213,2.2295267063757453,0.69487957331003436,{"$f":"STDEV(P8:P9)/AVERAGE(P8:P9)*100","v":12.868220513698784},{"$f":"STDEV(Q8:Q9)/AVERAGE(Q8:Q9)*100","v":5.1447896037879852},1.7516334866420342,2.6859094789256455,3.8769826680003554,2.6783082270314935,0.96510538198583584,6.1012764824203929,0.95850671457330117,1.1480732539867213,2.2295267063757453,0.69487957331003436]
[null,null,"D"]
[null,null,"E",{"$f":"STDEV(D10:D11)/AVERAGE(D10:D11)*100","v":22.865843755877361},{"$f":"STDEV(E10:E11)/AVERAGE(E10:E11)*100","v":3.3753116798727256},3.0160663396703513,12.544447581142848,0.51665944367461691,0.60260956880780814,22.231011300836101,1.736582142565438,25.575724179770283,1.1233727269236153,2.4209571455741901,5.2141432469511022,{"$f":"STDEV(P10:P11)/AVERAGE(P10:P11)*100","v":22.865843755877361},{"$f":"STDEV(Q10:Q11)/AVERAGE(Q10:Q11)*100","v":3.3753116798727256},3.0160663396703513,12.544447581142848,0.51665944367461691,0.60260956880780814,22.231011300836101,1.736582142565438,25.575724179770283,1.1233727269236153,2.4209571455741901,5.2141432469511022]
[null,null,"F"]
[null,null,"G",{"$f":"STDEV(D12:D13)/AVERAGE(D12:D13)*100","v":11.13176989426135},{"$f":"STDEV(E12:E13)/AVERAGE(E12:E13)*100","v":3.0025360648416322},33.642581179555705,4.4084580932930759,3.9331373203102795,3.2452776953558047,2.8766368597518395,5.0466224521033443,2.0677456335354392,1.3072238545402535,3.6658660846018578,9.9671851242817883E-2,{"$f":"STDEV(P12:P13)/AVERAGE(P12:P13)*100","v":11.13176989426135},{"$f":"STDEV(Q12:Q13)/AVERAGE(Q12:Q13)*100","v":3.0025360648416322},33.642581179555705,4.4084580932930759,3.9331373203102795,3.2452776953558047,2.8766368597518395,5.0466224521033443,2.0677456335354392,1.3072238545402535,3.6658660846018578,9.9671851242817883E-2]
[null,null,"H"]
[null,null,"I",{"$f":"STDEV(D14:D15)/AVERAGE(D14:D15)*100","v":4.0283333527528349},{"$f":"STDEV(E14:E15)/AVERAGE(E14:E15)*100","v":1.3891719108227378},4.2022345853371963,4.411106436038251,0.46059587101781369,2.041922379602767,0.45424418491641161,2.5863586789901709,2.0557030368044993,4.9695414044081367,2.2711826305182479,4.814590880925631,{"$f":"STDEV(P14:P15)/AVERAGE(P14:P15)*100","v":4.0283333527528349},{"$f":"STDEV(Q14:Q15)/AVERAGE(Q14:Q15)*100","v":1.3891719108227378},4.2022345853371963,4.411106436038251,0.46059587101781369,2.041922379602767,0.45424418491641161,2.5863586789901709,2.0557030368044993,4.9695414044081367,2.2711826305182479,4.814590880925631]
[null,null,"J"]
[null,null,"K",{"$f":"STDEV(D16:D17)/AVERAGE(D16:D17)*100","v":5.3087550593024995},{"$f":"STDEV(E16:E17)/AVERAGE(E16:E17)*100","v":10.94973421238458},5.3209409348243391,7.752062417857239,6.0200568490971014,1.4074757765098722,0.71335104582051057,0.21510421877208755,0.33277850398721481,8.3476592391062638,0.97227937288439803,2.4754864783307209,{"$f":"STDEV(P16:P17)/AVERAGE(P16:P17)*100","v":5.3087550593024995},{"$f":"STDEV(Q16:Q17)/AVERAGE(Q16:Q17)*100","v":10.94973421238458},5.3209409348243391,7.752062417857239,6.0200568490971014,1.4074757765098722,0.71335104582051057,0.21510421877208755,0.33277850398721481,8.3476592391062638,0.97227937288439803,2.4754864783307209]
[null,null,"L"]
[null,null,"M",{"$f":"STDEV(D18:D19)/AVERAGE(D18:D19)*100","v":7.8049361991686492},{"$f":"STDEV(E18:E19)/AVERAGE(E18:E19)*100","v":0.15993081785286301},0.97263656284256894,17.137811268081308,3.8885756418362964,1.2230255493532456,6.0442792154125247,4.3008735300726908,43.867753066406259,5.3736780868262164,2.2685364173824061,8.211193453390214,{"$f":"STDEV(P18:P19)/AVERAGE(P18:P19)*100","v":7.8049361991686492},{"$f":"STDEV(Q18:Q19)/AVERAGE(Q18:Q19)*100","v":0.15993081785286301},0.97263656284256894,17.137811268081308,3.8885756418362964,1.2230255493532456,6.0442792154125247,4.3008735300726908,43.867753066406259,5.3736780868262164,2.2685364173824061,8.211193453390214]
[null,null,"N"]
[null,null,"O",{"$f":"STDEV(D20:D21)/AVERAGE(D20:D21)*100","v":5.7215536750157652},{"$f":"STDEV(E20:E21)/AVERAGE(E20:E21)*100","v":3.7205434229722201},2.8788062338383611,29.048915361428779,3.8559250928552578,5.5182932799009317,30.29360521483256,3.9597179565700609,42.326625472740005,3.2706608862811999,9.4769120650130567,3.8239213042985902,{"$f":"STDEV(P20:P21)/AVERAGE(P20:P21)*100","v":5.7215536750157652},{"$f":"STDEV(Q20:Q21)/AVERAGE(Q20:Q21)*100","v":3.7205434229722201},{"$f":"STDEV(R20:R21)/AVERAGE(R20:R21)*100","v":2.8788062338383611},29.048915361428779,3.8559250928552578,5.5182932799009317,30.29360521483256,3.9597179565700609,42.326625472740005,3.2706608862811999,9.4769120650130567,3.8239213042985902]
[null,null,"P"]
[]
[null,"% Kinase Activity"]
[null,null,null,1,2,3,4,5,6,7,8,9,10,11,12,13,14,15,16,17,18,19,20,21,22,23,24]
[null,null,"A",{"$f":"'Kinase Strips'!I46","v":0},{"$f":"'Kinase Strips'!J46","v":100},{"$f":"'Kinase Strips'!K46","v":47.629792332268373},{"$f":"'Kinase Strips'!L46","v":5.9904153354632586},{"$f":"'Kinase Strips'!M46","v":99.776357827476033},{"$f":"'Kinase Strips'!N46","v":119.21325878594249},{"$f":"'Kinase Strips'!O46","v":119.27515974440894},{"$f":"'Kinase Strips'!P46","v":114.04552715654953},{"$f":"'Kinase Strips'!Q46","v":130.41134185303514},{"$f":"'Kinase Strips'!R46","v":116.15015974440894},{"$f":"'Kinase Strips'!S46","v":103.28474440894568},{"$f":"'Kinase Strips'!T46","v":73.238817891373799},{"$f":"'Kinase Strips'!X46","v":0},{"$f":"'Kinase Strips'!Y46","v":100},{"$f":"'Kinase Strips'!Z46","v":47.629792332268373},{"$f":"'Kinase Strips'!AA46","v":5.9904153354632586},{"$f":"'Kinase Strips'!AB46","v":99.776357827476033},{"$f":"'Kinase Strips'!AC46","v":119.21325878594249},{"$f":"'Kinase Strips'!AD46","v":119.27515974440894},{"$f":"'Kinase Strips'!AE46","v":114.04552715654953},{"$f":"'Kinase Strips'!AF46","v":130.41134185303514},{"$f":"'Kinase Strips'!AG46","v":116.15015974440894},{"$f":"'Kinase Strips'!AH46","v":103.28474440894568},{"$f":"'Kinase Strips'!AI46","v":73.238817891373799}]
[null,null,"B"]
[null,null,"C",{"$f":"'Kinase Strips'!I47","v":0},{"$f":"'Kinase Strips'!J47","v":100},{"$f":"'Kinase Strips'!K47","v":27.502810677961669},{"$f":"'Kinase Strips'!L47","v":11.825764112217952},{"$f":"'Kinase Strips'!M47","v":161.42965461343374},{"$f":"'Kinase Strips'!N47","v":104.16241796742227},{"$f":"'Kinase Strips'!O47","v":109.6608884356943},{"$f":"'Kinase Strips'!P47","v":114.92143174628076},{"$f":"'Kinase Strips'!Q47","v":109.06999241770596},{"$f":"'Kinase Strips'!R47","v":141.72614845608805},{"$f":"'Kinase Strips'!S47","v":120.6133814416817},{"$f":"'Kinase Strips'!T47","v":26.692289591340497},{"$f":"'Kinase Strips'!X47","v":0},{"$f":"'Kinase Strips'!Y47","v":100},{"$f":"'Kinase Strips'!Z47","v":27.502810677961669},{"$f":"'Kinase Strips'!AA47","v":11.825764112217952},{"$f":"'Kinase Strips'!AB47","v":161.42965461343374},{"$f":"'Kinase Strips'!AC47","v":104.16241796742227},{"$f":"'Kinase Strips'!AD47","v":109.6608884356943},{"$f":"'Kinase Strips'!AE47","v":114.92143174628076},{"$f":"'Kinase Strips'!AF47","v":109.06999241770596},{"$f":"'Kinase Strips'!AG47","v":141.72614845608805},{"$f":"'Kinase Strips'!AH47","v":120.6133814416817},{"$f":"'Kinase Strips'!AI47","v":26.692289591340497}]
[null,null,"D"]
[null,null,"E",{"$f":"'Kinase Strips'!I48","v":0},{"$f":"'Kinase Strips'!J48","v":100},{"$f":"'Kinase Strips'!K48","v":87.504549122612701},{"$f":"'Kinase Strips'!L48","v":73.645152613174261},{"$f":"'Kinase Strips'!M48","v":44.682669029573255},{"$f":"'Kinase Strips'!N48","v":110.48909001724712},{"$f":"'Kinase Strips'!O48","v":137.48477032864443},{"$f":"'Kinase Strips'!P48","v":112.72172028038419},{"$f":"'Kinase Strips'!Q48","v":136.73634076488551},{"$f":"'Kinase Strips'!R48","v":100.65349135271127},{"$f":"'Kinase Strips'!S48","v":106.58396493615405},{"$f":"'Kinase Strips'!T48","v":93.724584249750791},{"$f":"'Kinase Strips'!X48","v":0},{"$f":"'Kinase Strips'!Y48","v":100},{"$f":"'Kinase Strips'!Z48","v":87.504549122612701},{"$f":"'Kinase Strips'!AA48","v":73.645152613174261},{"$f":"'Kinase Strips'!AB48","v":44.682669029573255},{"$f":"'Kinase Strips'!AC48","v":110.48909001724712},{"$f":"'Kinase Strips'!AD48","v":137.48477032864443},{"$f":"'Kinase Strips'!AE48","v":112.72172028038419},{"$f":"'Kinase Strips'!AF48","v":136.73634076488551},{"$f":"'Kinase Strips'!AG48","v":100.65349135271127},{"$f":"'Kinase Strips'!AH48","v":106.58396493615405},{"$f":"'Kinase Strips'!AI48","v":93.724584249750791}]
[null,null,"F"]
[null,null,"G",{"$f":"'Kinase Strips'!I49","v":0},{"$f":"'Kinase Strips'!J49","v":100},{"$f":"'Kinase Strips'!K49","v":50.278300519077369},{"$f":"'Kinase Strips'!L49","v":106.73834065802865},{"$f":"'Kinase Strips'!M49","v":102.86999186987246},{"$f":"'Kinase Strips'!N49","v":107.35520697712761},{"$f":"'Kinase Strips'!O49","v":99.496841758154289},{"$f":"'Kinase Strips'!P49","v":111.83928500361023},{"$f":"'Kinase Strips'!Q49","v":107.04194122429487},{"$f":"'Kinase Strips'!R49","v":107.30744958468125},{"$f":"'Kinase Strips'!S49","v":114.02987111189444},{"$f":"'Kinase Strips'!T49","v":31.733650199841946},{"$f":"'Kinase Strips'!X49","v":0},{"$f":"'Kinase Strips'!Y49","v":100},{"$f":"'Kinase Strips'!Z49","v":50.278300519077369},{"$f":"'Kinase Strips'!AA49","v":106.73834065802865},{"$f":"'Kinase Strips'!AB49","v":102.86999186987246},{"$f":"'Kinase Strips'!AC49","v":107.35520697712761},{"$f":"'Kinase Strips'!AD49","v":99.496841758154289},{"$f":"'Kinase Strips'!AE49","v":111.83928500361023},{"$f":"'Kinase Strips'!AF49","v":107.04194122429487},{"$f":"'Kinase Strips'!AG49","v":107.30744958468125},{"$f":"'Kinase Strips'!AH49","v":114.02987111189444},{"$f":"'Kinase Strips'!AI49","v":31.733650199841946}]
[null,null,"H"]
[null,null,"I",{"$f":"'Kinase Strips'!I50","v":0},{"$f":"'Kinase Strips'!J50","v":100},{"$f":"'Kinase Strips'!K50","v":-0.64751112909753139},{"$f":"'Kinase Strips'!L50","v":98.927559692432212},{"$f":"'Kinase Strips'!M50","v":97.531363820315661},{"$f":"'Kinase Strips'!N50","v":100.80938891137193},{"$f":"'Kinase Strips'!O50","v":89.27559692432213},{"$f":"'Kinase Strips'!P50","v":97.794415216511538},{"$f":"'Kinase Strips'!Q50","v":98.704977741804939},{"$f":"'Kinase Strips'!R50","v":92.654795629299883},{"$f":"'Kinase Strips'!S50","v":106.92027519222987},{"$f":"'Kinase Strips'!T50","v":-15.783083771752327},{"$f":"'Kinase Strips'!X50","v":0},{"$f":"'Kinase Strips'!Y50","v":100},{"$f":"'Kinase Strips'!Z50","v":-0.64751112909753139},{"$f":"'Kinase Strips'!AA50","v":98.927559692432212},{"$f":"'Kinase Strips'!AB50","v":97.531363820315661},{"$f":"'Kinase Strips'!AC50","v":100.80938891137193},{"$f":"'Kinase Strips'!AD50","v":89.27559692432213},{"$f":"'Kinase Strips'!AE50","v":97.794415216511538},{"$f":"'Kinase Strips'!AF50","v":98.704977741804939},{"$f":"'Kinase Strips'!AG50","v":92.654795629299883},{"$f":"'Kinase Strips'!AH50","v":106.92027519222987},{"$f":"'Kinase Strips'!AI50","v":-15.783083771752327}]
[null,null,"J"]
[null,null,"K",{"$f":"'Kinase Strips'!I51","v":0},{"$f":"'Kinase Strips'!J51","v":100},{"$f":"'Kinase Strips'!K51","v":0.23021701460516544},{"$f":"'Kinase Strips'!L51","v":82.788596418846438},{"$f":"'Kinase Strips'!M51","v":88.579090684049845},{"$f":"'Kinase Strips'!N51","v":90.61556234012707},{"$f":"'Kinase Strips'!O51","v":54.894793299777213},{"$f":"'Kinase Strips'!P51","v":91.750969551943228},{"$f":"'Kinase Strips'!Q51","v":93.372390461259187},{"$f":"'Kinase Strips'!R51","v":6.1667629342354982},{"$f":"'Kinase Strips'!S51","v":91.802954039112137},{"$f":"'Kinase Strips'!T51","v":-5.2809637758890991E-2},{"$f":"'Kinase Strips'!X51","v":0},{"$f":"'Kinase Strips'!Y51","v":100},{"$f":"'Kinase Strips'!Z51","v":0.23021701460516544},{"$f":"'Kinase Strips'!AA51","v":82.788596418846438},{"$f":"'Kinase Strips'!AB51","v":88.579090684049845},{"$f":"'Kinase Strips'!AC51","v":90.61556234012707},{"$f":"'Kinase Strips'!AD51","v":54.894793299777213},{"$f":"'Kinase Strips'!AE51","v":91.750969551943228},{"$f":"'Kinase Strips'!AF51","v":93.372390461259187},{"$f":"'Kinase Strips'!AG51","v":6.1667629342354982},{"$f":"'Kinase Strips'!AH51","v":91.802954039112137},{"$f":"'Kinase Strips'!AI51","v":-5.2809637758890991E-2}]
[null,null,"L"]
[null,null,"M",{"$f":"'Kinase Strips'!I52","v":0},{"$f":"'Kinase Strips'!J52","v":100},{"$f":"'Kinase Strips'!K52","v":-0.69416913473721842},{"$f":"'Kinase Strips'!L52","v":55.284003016098815},{"$f":"'Kinase Strips'!M52","v":2.1369215581104295},{"$f":"'Kinase Strips'!N52","v":85.774585480749053},{"$f":"'Kinase Strips'!O52","v":59.835358317203422},{"$f":"'Kinase Strips'!P52","v":78.479202133034832},{"$f":"'Kinase Strips'!Q52","v":46.416050620710024},{"$f":"'Kinase Strips'!R52","v":-3.4203182450658023E-2},{"$f":"'Kinase Strips'!S52","v":88.071640120333015},{"$f":"'Kinase Strips'!T52","v":-0.92115389100067624},{"$f":"'Kinase Strips'!X52","v":0},{"$f":"'Kinase Strips'!Y52","v":100},{"$f":"'Kinase Strips'!Z52","v":-0.69416913473721842},{"$f":"'Kinase Strips'!AA52","v":55.284003016098815},{"$f":"'Kinase Strips'!AB52","v":2.1369215581104295},{"$f":"'Kinase Strips'!AC52","v":85.774585480749053},{"$f":"'Kinase Strips'!AD52","v":59.835358317203422},{"$f":"'Kinase Strips'!AE52","v":78.479202133034832},{"$f":"'Kinase Strips'!AF52","v":46.416050620710024},{"$f":"'Kinase Strips'!AG52","v":-3.4203182450658023E-2},{"$f":"'Kinase Strips'!AH52","v":88.071640120333015},{"$f":"'Kinase Strips'!AI52","v":-0.92115389100067624}]
[null,null,"N"]
[null,null,"O",{"$f":"'Kinase Strips'!I53","v":0},{"$f":"'Kinase Strips'!J53","v":100},{"$f":"'Kinase Strips'!K53","v":-1.4099287627936836},{"$f":"'Kinase Strips'!L53","v":45.880094324481149},{"$f":"'Kinase Strips'!M53","v":-0.23642850969789003},{"$f":"'Kinase Strips'!N53","v":84.603750756200853},{"$f":"'Kinase Strips'!O53","v":62.109707766954337},{"$f":"'Kinase Strips'!P53","v":66.95618356235417},{"$f":"'Kinase Strips'!Q53","v":41.58796004790301},{"$f":"'Kinase Strips'!R53","v":-0.31914762275145991},{"$f":"'Kinase Strips'!S53","v":81.459807153351363},{"$f":"'Kinase Strips'!T53","v":-1.7531513512846157},{"$f":"'Kinase Strips'!X53","v":0},{"$f":"'Kinase Strips'!Y53","v":100},{"$f":"'Kinase Strips'!Z53","v":-1.4099287627936836},{"$f":"'Kinase Strips'!AA53","v":45.880094324481149},{"$f":"'Kinase Strips'!AB53","v":-0.23642850969789003},{"$f":"'Kinase Strips'!AC53","v":84.603750756200853},{"$f":"'Kinase Strips'!AD53","v":62.109707766954337},{"$f":"'Kinase Strips'!AE53","v":66.95618356235417},{"$f":"'Kinase Strips'!AF53","v":41.58796004790301},{"$f":"'Kinase Strips'!AG53","v":-0.31914762275145991},{"$f":"'Kinase Strips'!AH53","v":81.459807153351363},{"$f":"'Kinase Strips'!AI53","v":-1.7531513512846157}]
[null,null,"P"]

{"sheet":"Kinase Strips","index":3,"n_rows":142,"n_cols":35,"rows_kept":142,"cut":false,"hidden":true,"merged":[[118,1,125,1],[126,1,133,1],[134,1,141,1],[94,0,117,0],[94,1,101,1],[102,1,109,1],[110,1,117,1],[6,1,13,1],[14,1,21,1],[22,1,29,1],[30,1,37,1],[38,1,45,1],[86,1,93,1],[46,1,53,1],[54,1,61,1],[62,1,69,1],[70,1,77,1],[78,1,85,1]]}
[]
[]
["Strip Composition:"]
[]
[]
[null,"Strip Name","Tube in Strip","Kinase",null,null,null,null,1,2,3,4,5,6,7,8,9,10,11,12,null,null,null,13,14,15,16,17,18,19,20,21,22,23,24]
[null,"TK-1",1,"EGFR",null,null,null,"A",{"$f":"Results!F10","v":5336},{"$f":"Results!G10","v":28755},{"$f":"Results!H10","v":16358},{"$f":"Results!I10","v":6854},{"$f":"Results!J10","v":30477},{"$f":"Results!K10","v":35653},{"$f":"Results!L10","v":35381},{"$f":"Results!M10","v":34482},{"$f":"Results!N10","v":40545},{"$f":"Results!O10","v":33431},{"$f":"Results!P10","v":27640},{"$f":"Results!Q10","v":21321},null,null,"A",{"$f":"Results!R10","v":5336},{"$f":"Results!S10","v":28755},{"$f":"Results!T10","v":16358},{"$f":"Results!U10","v":6854},{"$f":"Results!V10","v":30477},{"$f":"Results!W10","v":35653},{"$f":"Results!X10","v":35381},{"$f":"Results!Y10","v":34482},{"$f":"Results!Z10","v":40545},{"$f":"Results!AA10","v":33431},{"$f":"Results!AB10","v":27640},{"$f":"Results!AC10","v":21321}]
[null,null,2,"HER2",null,null,null,"B",{"$f":"Results!F11","v":5212},{"$f":"Results!G11","v":31873},{"$f":"Results!H11","v":18043},{"$f":"Results!I11","v":6694},{"$f":"Results!J11","v":30039},{"$f":"Results!K11","v":34597},{"$f":"Results!L11","v":34900},{"$f":"Results!M11","v":33180},{"$f":"Results!N11","v":35313},{"$f":"Results!O11","v":35285},{"$f":"Results!P11","v":34633},{"$f":"Results!Q11","v":25905},null,null,"B",{"$f":"Results!R11","v":5212},{"$f":"Results!S11","v":31873},{"$f":"Results!T11","v":18043},{"$f":"Results!U11","v":6694},{"$f":"Results!V11","v":30039},{"$f":"Results!W11","v":34597},{"$f":"Results!X11","v":34900},{"$f":"Results!Y11","v":33180},{"$f":"Results!Z11","v":35313},{"$f":"Results!AA11","v":35285},{"$f":"Results!AB11","v":34633},{"$f":"Results!AC11","v":25905}]
[null,null,3,"HER4",null,null,null,"C",{"$f":"Results!F12","v":5977},{"$f":"Results!G12","v":25497},{"$f":"Results!H12","v":10871},{"$f":"Results!I12","v":7593},{"$f":"Results!J12","v":37346},{"$f":"Results!K12","v":25879},{"$f":"Results!L12","v":26630},{"$f":"Results!M12","v":28640},{"$f":"Results!N12","v":26515},{"$f":"Results!O12","v":32317},{"$f":"Results!P12","v":28994},{"$f":"Results!Q12","v":10531},null,null,"C",{"$f":"Results!R12","v":5977},{"$f":"Results!S12","v":25497},{"$f":"Results!T12","v":10871},{"$f":"Results!U12","v":7593},{"$f":"Results!V12","v":37346},{"$f":"Results!W12","v":25879},{"$f":"Results!X12","v":26630},{"$f":"Results!Y12","v":28640},{"$f":"Results!Z12","v":26515},{"$f":"Results!AA12","v":32317},{"$f":"Results!AB12","v":28994},{"$f":"Results!AC12","v":10531}]
[null,null,4,"IGF1R",null,null,null,"D",{"$f":"Results!F13","v":4980},{"$f":"Results!G13","v":23707},{"$f":"Results!H13","v":10605},{"$f":"Results!I13","v":7887},{"$f":"Results!J13","v":35353},{"$f":"Results!K13","v":24917},{"$f":"Results!L13","v":26269},{"$f":"Results!M13","v":26271},{"$f":"Results!N13","v":26158},{"$f":"Results!O13","v":32846},{"$f":"Results!P13","v":28094},{"$f":"Results!Q13","v":10635},null,null,"D",{"$f":"Results!R13","v":4980},{"$f":"Results!S13","v":23707},{"$f":"Results!T13","v":10605},{"$f":"Results!U13","v":7887},{"$f":"Results!V13","v":35353},{"$f":"Results!W13","v":24917},{"$f":"Results!X13","v":26269},{"$f":"Results!Y13","v":26271},{"$f":"Results!Z13","v":26158},{"$f":"Results!AA13","v":32846},{"$f":"Results!AB13","v":28094},{"$f":"Results!AC13","v":10635}]
[null,null,5,"InsR",null,null,null,"E",{"$f":"Results!F14","v":5947},{"$f":"Results!G14","v":37770},{"$f":"Results!H14","v":35486},{"$f":"Results!I14","v":33059},{"$f":"Results!J14","v":21136},{"$f":"Results!K14","v":41829},{"$f":"Results!L14","v":42594},{"$f":"Results!M14","v":42189},{"$f":"Results!N14","v":59399},{"$f":"Results!O14","v":38591},{"$f":"Results!P14","v":40076},{"$f":"Results!Q14","v":38064},null,null,"E",{"$f":"Results!R14","v":5947},{"$f":"Results!S14","v":37770},{"$f":"Results!T14","v":35486},{"$f":"Results!U14","v":33059},{"$f":"Results!V14","v":21136},{"$f":"Results!W14","v":41829},{"$f":"Results!X14","v":42594},{"$f":"Results!Y14","v":42189},{"$f":"Results!Z14","v":59399},{"$f":"Results!AA14","v":38591},{"$f":"Results!AB14","v":40076},{"$f":"Results!AC14","v":38064}]
[null,null,6,"KDR",null,null,null,"F",{"$f":"Results!F15","v":8241},{"$f":"Results!G15","v":39617},{"$f":"Results!H15","v":34004},{"$f":"Results!I15","v":27672},{"$f":"Results!J15","v":21291},{"$f":"Results!K15","v":42187},{"$f":"Results!L15","v":58483},{"$f":"Results!M15","v":43238},{"$f":"Results!N15","v":41205},{"$f":"Results!O15","v":39209},{"$f":"Results!P15","v":41472},{"$f":"Results!Q15","v":35357},null,null,"F",{"$f":"Results!R15","v":8241},{"$f":"Results!S15","v":39617},{"$f":"Results!T15","v":34004},{"$f":"Results!U15","v":27672},{"$f":"Results!V15","v":21291},{"$f":"Results!W15","v":42187},{"$f":"Results!X15","v":58483},{"$f":"Results!Y15","v":43238},{"$f":"Results!Z15","v":41205},{"$f":"Results!AA15","v":39209},{"$f":"Results!AB15","v":41472},{"$f":"Results!AC15","v":35357}]
[null,null,7,"PDGFRa",null,null,null,"G",{"$f":"Results!F16","v":5098},{"$f":"Results!G16","v":94638},{"$f":"Results!H16","v":37300},{"$f":"Results!I16","v":101670},{"$f":"Results!J16","v":97842},{"$f":"Results!K16","v":101414},{"$f":"Results!L16","v":94104},{"$f":"Results!M16","v":106761},{"$f":"Results!N16","v":100309},{"$f":"Results!O16","v":100013},{"$f":"Results!P16","v":102287},{"$f":"Results!Q16","v":32611},null,null,"G",{"$f":"Results!R16","v":5098},{"$f":"Results!S16","v":94638},{"$f":"Results!T16","v":37300},{"$f":"Results!U16","v":101670},{"$f":"Results!V16","v":97842},{"$f":"Results!W16","v":101414},{"$f":"Results!X16","v":94104},{"$f":"Results!Y16","v":106761},{"$f":"Results!Z16","v":100309},{"$f":"Results!AA16","v":100013},{"$f":"Results!AB16","v":102287},{"$f":"Results!AC16","v":32611}]
[null,null,8,"PDGFRb",null,null,null,"H",{"$f":"Results!F17","v":4354},{"$f":"Results!G17","v":90703},{"$f":"Results!H17","v":60586},{"$f":"Results!I17","v":95523},{"$f":"Results!J17","v":92547},{"$f":"Results!K17","v":96864},{"$f":"Results!L17","v":90352},{"$f":"Results!M17","v":99404},{"$f":"Results!N17","v":97418},{"$f":"Results!O17","v":98181},{"$f":"Results!P17","v":107731},{"$f":"Results!Q17","v":32657},null,null,"H",{"$f":"Results!R17","v":4354},{"$f":"Results!S17","v":90703},{"$f":"Results!T17","v":60586},{"$f":"Results!U17","v":95523},{"$f":"Results!V17","v":92547},{"$f":"Results!W17","v":96864},{"$f":"Results!X17","v":90352},{"$f":"Results!Y17","v":99404},{"$f":"Results!Z17","v":97418},{"$f":"Results!AA17","v":98181},{"$f":"Results!AB17","v":107731},{"$f":"Results!AC17","v":32657}]
[null,"TK-2",1,"ABL1",null,null,null,"I",{"$f":"Results!F18","v":5416},{"$f":"Results!G18","v":7813},{"$f":"Results!H18","v":5406},{"$f":"Results!I18","v":7951},{"$f":"Results!J18","v":7651},{"$f":"Results!K18","v":7645},{"$f":"Results!L18","v":7448},{"$f":"Results!M18","v":7823},{"$f":"Results!N18","v":7817},{"$f":"Results!O18","v":7821},{"$f":"Results!P18","v":8035},{"$f":"Results!Q18","v":5042},null,null,"I",{"$f":"Results!R18","v":5416},{"$f":"Results!S18","v":7813},{"$f":"Results!T18","v":5406},{"$f":"Results!U18","v":7951},{"$f":"Results!V18","v":7651},{"$f":"Results!W18","v":7645},{"$f":"Results!X18","v":7448},{"$f":"Results!Y18","v":7823},{"$f":"Results!Z18","v":7817},{"$f":"Results!AA18","v":7821},{"$f":"Results!AB18","v":8035},{"$f":"Results!AC18","v":5042}]
[null,null,2,"BRK",null,null,null,"J",{"$f":"Results!F19","v":5116},{"$f":"Results!G19","v":7661},{"$f":"Results!H19","v":5094},{"$f":"Results!I19","v":7470},{"$f":"Results!J19","v":7701},{"$f":"Results!K19","v":7869},{"$f":"Results!L19","v":7496},{"$f":"Results!M19","v":7542},{"$f":"Results!N19","v":7593},{"$f":"Results!O19","v":7290},{"$f":"Results!P19","v":7781},{"$f":"Results!Q19","v":4710},null,null,"J",{"$f":"Results!R19","v":5116},{"$f":"Results!S19","v":7661},{"$f":"Results!T19","v":5094},{"$f":"Results!U19","v":7470},{"$f":"Results!V19","v":7701},{"$f":"Results!W19","v":7869},{"$f":"Results!X19","v":7496},{"$f":"Results!Y19","v":7542},{"$f":"Results!Z19","v":7593},{"$f":"Results!AA19","v":7290},{"$f":"Results!AB19","v":7781},{"$f":"Results!AC19","v":4710}]
[null,null,3,"BTK",null,null,null,"K",{"$f":"Results!F20","v":6053},{"$f":"Results!G20","v":136859},{"$f":"Results!H20","v":6343},{"$f":"Results!I20","v":111985},{"$f":"Results!J20","v":118001},{"$f":"Results!K20","v":116802},{"$f":"Results!L20","v":71996},{"$f":"Results!M20","v":117205},{"$f":"Results!N20","v":119272},{"$f":"Results!O20","v":14093},{"$f":"Results!P20","v":116285},{"$f":"Results!Q20","v":5871},null,null,"K",{"$f":"Results!R20","v":6053},{"$f":"Results!S20","v":136859},{"$f":"Results!T20","v":6343},{"$f":"Results!U20","v":111985},{"$f":"Results!V20","v":118001},{"$f":"Results!W20","v":116802},{"$f":"Results!X20","v":71996},{"$f":"Results!Y20","v":117205},{"$f":"Results!Z20","v":119272},{"$f":"Results!AA20","v":14093},{"$f":"Results!AB20","v":116285},{"$f":"Results!AC20","v":5871}]
[null,null,4,"CSK",null,null,null,"L",{"$f":"Results!F21","v":5615},{"$f":"Results!G21","v":117189},{"$f":"Results!H21","v":5883},{"$f":"Results!I21","v":100346},{"$f":"Results!J21","v":108365},{"$f":"Results!K21","v":114500},{"$f":"Results!L21","v":72726},{"$f":"Results!M21","v":116849},{"$f":"Results!N21","v":118712},{"$f":"Results!O21","v":12522},{"$f":"Results!P21","v":117895},{"$f":"Results!Q21","v":5669},null,null,"L",{"$f":"Results!R21","v":5615},{"$f":"Results!S21","v":117189},{"$f":"Results!T21","v":5883},{"$f":"Results!U21","v":100346},{"$f":"Results!V21","v":108365},{"$f":"Results!W21","v":114500},{"$f":"Results!X21","v":72726},{"$f":"Results!Y21","v":116849},{"$f":"Results!Z21","v":118712},{"$f":"Results!AA21","v":12522},{"$f":"Results!AB21","v":117895},{"$f":"Results!AC21","v":5669}]
[null,null,5,"FYN A",null,null,null,"M",{"$f":"Results!F22","v":5841},{"$f":"Results!G22","v":69936},{"$f":"Results!H22","v":5054},{"$f":"Results!I22","v":36115},{"$f":"Results!J22","v":7100},{"$f":"Results!K22","v":61232},{"$f":"Results!L22","v":42141},{"$f":"Results!M22","v":54311},{"$f":"Results!N22","v":24413},{"$f":"Results!O22","v":5723},{"$f":"Results!P22","v":63182},{"$f":"Results!Q22","v":4656},null,null,"M",{"$f":"Results!R22","v":5841},{"$f":"Results!S22","v":69936},{"$f":"Results!T22","v":5054},{"$f":"Results!U22","v":36115},{"$f":"Results!V22","v":7100},{"$f":"Results!W22","v":61232},{"$f":"Results!X22","v":42141},{"$f":"Results!Y22","v":54311},{"$f":"Results!Z22","v":24413},{"$f":"Results!AA22","v":5723},{"$f":"Results!AB22","v":63182},{"$f":"Results!AC22","v":4656}]
[null,null,6,"LCK",null,null,null,"N",{"$f":"Results!F23","v":5230},{"$f":"Results!G23","v":69778},{"$f":"Results!H23","v":5124},{"$f":"Results!I23","v":46075},{"$f":"Results!J23","v":6720},{"$f":"Results!K23","v":60182},{"$f":"Results!L23","v":45904},{"$f":"Results!M23","v":57718},{"$f":"Results!N23","v":46369},{"$f":"Results!O23","v":5304},{"$f":"Results!P23","v":61187},{"$f":"Results!Q23","v":5230},null,null,"N",{"$f":"Results!R23","v":5230},{"$f":"Results!S23","v":69778},{"$f":"Results!T23","v":5124},{"$f":"Results!U23","v":46075},{"$f":"Results!V23","v":6720},{"$f":"Results!W23","v":60182},{"$f":"Results!X23","v":45904},{"$f":"Results!Y23","v":57718},{"$f":"Results!Z23","v":46369},{"$f":"Results!AA23","v":5304},{"$f":"Results!AB23","v":61187},{"$f":"Results!AC23","v":5230}]
[null,null,7,"LYN B",null,null,null,"O",{"$f":"Results!F24","v":6095},{"$f":"Results!G24","v":89140},{"$f":"Results!H24","v":4620},{"$f":"Results!I24","v":34183},{"$f":"Results!J24","v":5512},{"$f":"Results!K24","v":71482},{"$f":"Results!L24","v":44134},{"$f":"Results!M24","v":61773},{"$f":"Results!N24","v":27708},{"$f":"Results!O24","v":5470},{"$f":"Results!P24","v":67024},{"$f":"Results!Q24","v":4318},null,null,"O",{"$f":"Results!R24","v":6095},{"$f":"Results!S24","v":89140},{"$f":"Results!T24","v":4620},{"$f":"Results!U24","v":34183},{"$f":"Results!V24","v":5512},{"$f":"Results!W24","v":71482},{"$f":"Results!X24","v":44134},{"$f":"Results!Y24","v":61773},{"$f":"Results!Z24","v":27708},{"$f":"Results!AA24","v":5470},{"$f":"Results!AB24","v":67024},{"$f":"Results!AC24","v":4318}]
[null,null,8,"SRC",null,null,null,"P",{"$f":"Results!F25","v":5621},{"$f":"Results!G25","v":84570},{"$f":"Results!H25","v":4812},{"$f":"Results!I25","v":51856},{"$f":"Results!J25","v":5821},{"$f":"Results!K25","v":77287},{"$f":"Results!L25","v":68196},{"$f":"Results!M25","v":58408},{"$f":"Results!N25","v":51378},{"$f":"Results!O25","v":5729},{"$f":"Results!P25","v":76652},{"$f":"Results!Q25","v":4558},null,null,"P",{"$f":"Results!R25","v":5621},{"$f":"Results!S25","v":84570},{"$f":"Results!T25","v":4812},{"$f":"Results!U25","v":51856},{"$f":"Results!V25","v":5821},{"$f":"Results!W25","v":77287},{"$f":"Results!X25","v":68196},{"$f":"Results!Y25","v":58408},{"$f":"Results!Z25","v":51378},{"$f":"Results!AA25","v":5729},{"$f":"Results!AB25","v":76652},{"$f":"Results!AC25","v":4558}]
[null,"TK-3",1,"AXL1"]
[null,null,2,"EPHA1"]
[null,null,3,"FAK",null,null,null,null,"BG",1,"I1","I2","I3","I4","I5","I6","I7","I8","I9","I10",null,null,null,"BG",1,"I1","I2","I3","I4","I5","I6","I7","I8","I9","I10"]
[null,null,4,"ITK",null,null,null,null,1,2,3,4,5,6,7,8,9,10,11,12,null,null,null,1,2,3,4,5,6,7,8,9,10,11,12]
[null,null,5,"JAK3",null,null,null,null,{"$f":"AVERAGE(I7:I8)","v":5274},30314,17200.5,6774,30258,35125,35140.5,33831,37929,34358,31136.5,23613,null,null,null,{"$f":"AVERAGE(X7:X8)","v":5274},30314,17200.5,6774,30258,35125,35140.5,33831,37929,34358,31136.5,23613]
[null,null,6,"PYK2",null,null,null,null,{"$f":"AVERAGE(I9:I10)","v":5478.5},24602,10738,7740,36349.5,25398,26449.5,27455.5,26336.5,32581.5,28544,10583,null,null,null,{"$f":"AVERAGE(X9:X10)","v":5478.5},24602,10738,7740,36349.5,25398,26449.5,27455.5,26336.5,32581.5,28544,10583]
[null,null,7,"SYK",null,null,null,null,{"$f":"AVERAGE(I11:I12)","v":7094},38693.5,34745,30365.5,21213.5,42008,50538.5,42713.5,50302,38900,40774,36710.5,null,null,null,{"$f":"AVERAGE(X11:X12)","v":7094},38693.5,34745,30365.5,21213.5,42008,50538.5,42713.5,50302,38900,40774,36710.5]
[null,null,8,"TRKA",null,null,null,null,{"$f":"AVERAGE(I13:I14)","v":4726},92670.5,48943,98596.5,95194.5,99139,92228,103082.5,98863.5,99097,105009,32634,null,null,null,{"$f":"AVERAGE(X13:X14)","v":4726},92670.5,48943,98596.5,95194.5,99139,92228,103082.5,98863.5,99097,105009,32634]
[null,"CMGC-1",1,"ERK2",null,null,null,null,{"$f":"AVERAGE(I15:I16)","v":5266},7737,5250,7710.5,7676,7757,7472,7682.5,7705,7555.5,7908,4876,null,null,null,{"$f":"AVERAGE(X15:X16)","v":5266},7737,5250,7710.5,7676,7757,7472,7682.5,7705,7555.5,7908,4876]
[null,null,2,"GSK3b",null,null,null,null,{"$f":"AVERAGE(I17:I18)","v":5834},127024,6113,106165.5,113183,115651,72361,117027,118992,13307.5,117090,5770,null,null,null,{"$f":"AVERAGE(X17:X18)","v":5834},127024,6113,106165.5,113183,115651,72361,117027,118992,13307.5,117090,5770]
[null,null,3,"JNK1",null,null,null,null,{"$f":"AVERAGE(I19:I20)","v":5535.5},69857,5089,41095,6910,60707,44022.5,56014.5,35391,5513.5,62184.5,4943,null,null,null,{"$f":"AVERAGE(X19:X20)","v":5535.5},69857,5089,41095,6910,60707,44022.5,56014.5,35391,5513.5,62184.5,4943]
[null,null,4,"JNK3",null,null,null,null,{"$f":"AVERAGE(I21:I22)","v":5858},86855,4716,43019.5,5666.5,74384.5,56165,60090.5,39543,5599.5,71838,4438,null,null,null,{"$f":"AVERAGE(X21:X22)","v":5858},86855,4716,43019.5,5666.5,74384.5,56165,60090.5,39543,5599.5,71838,4438]
[null,null,5,"p38a"]
[null,null,6,"p38b",null,null,null,null,{"$f":"I27-$I27","v":0},25040,11926.5,1500,24984,29851,29866.5,28557,32655,29084,25862.5,18339,null,null,null,{"$f":"X27-$X27","v":0},{"$f":"Y27-$X27","v":25040},{"$f":"Z27-$X27","v":11926.5},1500,24984,29851,29866.5,28557,32655,29084,25862.5,18339]
[null,null,7,"p38d",null,null,null,null,{"$f":"I28-$I28","v":0},19123.5,5259.5,2261.5,30871,19919.5,20971,21977,20858,27103,23065.5,5104.5,null,null,null,{"$f":"X28-$X28","v":0},19123.5,5259.5,2261.5,30871,19919.5,20971,21977,20858,27103,23065.5,5104.5]
[null,null,8,"p38g",null,null,null,null,{"$f":"I29-$I29","v":0},31599.5,27651,23271.5,14119.5,34914,43444.5,35619.5,43208,31806,33680,29616.5,null,null,null,0,31599.5,27651,23271.5,14119.5,34914,43444.5,35619.5,43208,31806,33680,29616.5]
[null,"CMGC-2",1,"CDK1/CyclinA2",null,null,null,null,{"$f":"I30-$I30","v":0},87944.5,44217,93870.5,90468.5,94413,87502,98356.5,94137.5,94371,100283,27908,null,null,null,0,87944.5,44217,93870.5,90468.5,94413,87502,98356.5,94137.5,94371,100283,27908]
[null,null,2,"CDK2/CyclinE1",null,null,null,null,{"$f":"I31-$I31","v":0},2471,-16,2444.5,2410,2491,2206,2416.5,2439,2289.5,2642,-390,null,null,null,0,2471,-16,2444.5,2410,2491,2206,2416.5,2439,2289.5,2642,-390]
[null,null,3,"CDK3/CyclinE1",null,null,null,null,{"$f":"I32-$I32","v":0},121190,279,100331.5,107349,109817,66527,111193,113158,7473.5,111256,-64,null,null,null,0,121190,279,100331.5,107349,109817,66527,111193,113158,7473.5,111256,-64]
[null,null,4,"CDK5/p25",null,null,null,null,{"$f":"I33-$I33","v":0},64321.5,-446.5,35559.5,1374.5,55171.5,38487,50479,29855.5,-22,56649,-592.5,null,null,null,0,64321.5,-446.5,35559.5,1374.5,55171.5,38487,50479,29855.5,-22,56649,-592.5]
[null,null,5,"CDK5/p35",null,null,null,null,{"$f":"I34-$I34","v":0},80997,-1142,37161.5,-191.5,68526.5,50307,54232.5,33685,-258.5,65980,-1420,null,null,null,0,80997,-1142,37161.5,-191.5,68526.5,50307,54232.5,33685,-258.5,65980,-1420]
[null,null,6,"CDK6/Cyclin D3"]
[null,null,7,"CDK9/Cyclin K",null,null,null,null,"BG",1,null,null,null,null,null,null,null,null,null,null,null,null,null,"BG",1]
[null,null,8,"CLK3",null,null,null,null,{"$f":"I36/$J36*100","v":0},{"$f":"J36/$J36*100","v":100},{"$f":"K36/$J36*100","v":47.629792332268373},{"$f":"L36/$J36*100","v":5.9904153354632586},{"$f":"M36/$J36*100","v":99.776357827476033},119.21325878594249,119.27515974440894,114.04552715654953,130.41134185303514,116.15015974440894,103.28474440894568,73.238817891373799,null,null,null,{"$f":"X36/$Y36*100","v":0},{"$f":"Y36/$Y36*100","v":100},47.629792332268373,5.9904153354632586,99.776357827476033,119.21325878594249,119.27515974440894,114.04552715654953,130.41134185303514,116.15015974440894,103.28474440894568,73.238817891373799]
[null,"AGC-1",1,"AKT1",null,null,null,null,{"$f":"I37/$J37*100","v":0},100,27.502810677961669,11.825764112217952,161.42965461343374,104.16241796742227,109.6608884356943,114.92143174628076,109.06999241770596,141.72614845608805,120.6133814416817,26.692289591340497,null,null,null,{"$f":"X37/$Y37*100","v":0},100,27.502810677961669,11.825764112217952,161.42965461343374,104.16241796742227,109.6608884356943,114.92143174628076,109.06999241770596,141.72614845608805,120.6133814416817,26.692289591340497]
[null,null,2,"p70S6Kb",null,null,null,null,0,100,87.504549122612701,73.645152613174261,44.682669029573255,110.48909001724712,137.48477032864443,112.72172028038419,136.73634076488551,100.65349135271127,106.58396493615405,93.724584249750791,null,null,null,0,100,87.504549122612701,73.645152613174261,44.682669029573255,110.48909001724712,137.48477032864443,112.72172028038419,136.73634076488551,100.65349135271127,106.58396493615405,93.724584249750791]
[null,null,3,"PDK1",null,null,null,null,0,100,50.278300519077369,106.73834065802865,102.86999186987246,107.35520697712761,99.496841758154289,111.83928500361023,107.04194122429487,107.30744958468125,114.02987111189444,31.733650199841946,null,null,null,0,100,50.278300519077369,106.73834065802865,102.86999186987246,107.35520697712761,99.496841758154289,111.83928500361023,107.04194122429487,107.30744958468125,114.02987111189444,31.733650199841946]
[null,null,4,"PKA",null,null,null,null,0,100,-0.64751112909753139,98.927559692432212,97.531363820315661,100.80938891137193,89.27559692432213,97.794415216511538,98.704977741804939,92.654795629299883,106.92027519222987,-15.783083771752327,null,null,null,0,100,-0.64751112909753139,98.927559692432212,97.531363820315661,100.80938891137193,89.27559692432213,97.794415216511538,98.704977741804939,92.654795629299883,106.92027519222987,-15.783083771752327]
[null,null,5,"PKC",null,null,null,null,0,100,0.23021701460516544,82.788596418846438,88.579090684049845,90.61556234012707,54.894793299777213,91.750969551943228,93.372390461259187,6.1667629342354982,91.802954039112137,-5.2809637758890991E-2,null,null,null,0,100,0.23021701460516544,82.788596418846438,88.579090684049845,90.61556234012707,54.894793299777213,91.750969551943228,93.372390461259187,6.1667629342354982,91.802954039112137,-5.2809637758890991E-2]
[null,null,6,"PRKG1",null,null,null,null,0,100,-0.69416913473721842,55.284003016098815,2.1369215581104295,85.774585480749053,59.835358317203422,78.479202133034832,46.416050620710024,-3.4203182450658023E-2,88.071640120333015,-0.92115389100067624,null,null,null,0,100,-0.69416913473721842,55.284003016098815,2.1369215581104295,85.774585480749053,59.835358317203422,78.479202133034832,46.416050620710024,-3.4203182450658023E-2,88.071640120333015,-0.92115389100067624]
[null,null,7,"ROCK1",null,null,null,null,0,100,-1.4099287627936836,45.880094324481149,-0.23642850969789003,84.603750756200853,62.109707766954337,66.95618356235417,41.58796004790301,-0.31914762275145991,81.459807153351363,-1.7531513512846157,null,null,null,0,100,-1.4099287627936836,45.880094324481149,-0.23642850969789003,84.603750756200853,62.109707766954337,66.95618356235417,41.58796004790301,-0.31914762275145991,81.459807153351363,-1.7531513512846157]
[null,null,8,"RSK2"]
[null,"AGC-2",1,"PKCa",null,null,null,null,null,null,null,null,null,null,null,null,null,">60% Activity ","20-60% Activity","<20% Activity",null,null,null,null,null,null,null,null,null,null,null,null,">60% Activity ","20-60% Activity","<20% Activity"]
[null,null,2,"PKCb II"]
[null,null,3,"PKCd"]
[null,null,4,"PKCe"]
[null,null,5,"PKCg"]
[null,null,6,"PKCi"]
[null,null,7,"PKCtheta"]
[null,null,8,"PKCz"]
[null,"CAMK-1",1,"CHK1"]
[null,null,2,"CHK2"]
[null,null,3,"MAPKAPK2"]
[null,null,4,"MARK1"]
[null,null,5,"MELK"]
[null,null,6,"PASK"]
[null,null,7,"PIM1"]
[null,null,8,"PKCmu (PKD1)"]
[null,"Other/CK-1",1,"Aurora A"]
[null,null,2,"Aurora B"]
[null,null,3,"CK2a1"]
[null,null,4,"DNA-PK"]
[null,null,5,"CK1α1"]
[null,null,6,"CK1epsilon"]
[null,null,7,"CK1g1"]
[null,null,8,"VRK2"]
[null,"TKL-1",1,"ALK2"]
[null,null,2,"ALK4"]
[null,null,3,"IRAK4"]
[null,null,4,"MLK2"]
[null,null,5,"RIPK2"]
[null,null,6,"TAK1-TAB1"]
[null,null,7,"TGFβR2"]
[null,null,8,"ZAK"]
[null,"STE-1",1,"ASK1"]
[null,null,2,"HPK1"]
[null,null,3,"MINK1"]
[null,null,4,"MST1"]
[null,null,5,"NIK"]
[null,null,6,"PAK1/CDC42 "]
[null,null,7,"PAK3"]
[null,null,8,"TNIK"]
["Second Launch - Still not complete","CAMK-2",1,"AMPK A1/B1/G1"]
[null,null,2,"AMPK A1/B1/G2"]
[null,null,3,"AMPK A2/B1/G1"]
[null,null,4,"CAMK2a"]
[null,null,5,"CAMK2g"]
[null,null,6,"CAMK4"]
[null,null,7,"DAPK1"]
[null,null,8,"STK33"]
[null,"TK-4",1,"c-MER"]
[null,null,2,"FGFR1"]
[null,null,3,"FGFR2"]
[null,null,4,"FGFR4"]
[null,null,5,"FLT1"]
[null,null,6,"FMS"]
[null,null,7,"MET"]
[null,null,8,"RET"]
[null,"Other-2",1,"CDC7/DBF4"]
[null,null,2,"EIF2AK2"]
[null,null,3,"IKKb"]
[null,null,4,"NEK2"]
[null,null,5,"NEK3"]
[null,null,6,"PLK1"]
[null,null,7,"TBK1"]
[null,null,8,"ULK1"]
[null,"GP-1",1,"FGFR1"]
[null,null,2,"JAK3"]
[null,null,3,"LCK"]
[null,null,4,"SYK"]
[null,null,5,"MINK1"]
[null,null,6,"PAK1/CDC42 "]
[null,null,7,"IRAK4"]
[null,null,8,"TAK1-TAB1"]
[null,"GP-2",1,"CDK2/CyclinE1"]
[null,null,2,"GSK3b"]
[null,null,3,"p38a"]
[null,null,4,"AMPK A1/B1/G2"]
[null,null,5,"CAMK4"]
[null,null,6,"CHK1"]
[null,null,7,"DAPK1"]
[null,null,8,"MAPKAPK2"]
[null,"GP-3",1,"AKT1"]
[null,null,2,"PKCa"]
[null,null,3,"ROCK1"]
[null,null,4,"Aurora A"]
[null,null,5,"CK2a1"]
[null,null,6,"IKKb"]
[null,null,7,"CK1a1"]
[null,null,8,"CK1g1"]